BEGIN:VCALENDAR
VERSION:2.0
PRODID:gruene-schifferstadt.de
METHOD:PUBLISH
BEGIN:VTIMEZONE
TZID:Europe/Berlin
X-LIC-LOCATION:Europe/Berlin
BEGIN:DAYLIGHT
TZOFFSETFROM:+0100
TZOFFSETTO:+0200
TZNAME:CEST
DTSTART:19700329T020000
RRULE:FREQ=YEARLY;INTERVAL=1;BYDAY=-1SU;BYMONTH=3
END:DAYLIGHT
BEGIN:STANDARD
TZOFFSETFROM:+0200
TZOFFSETTO:+0100
TZNAME:CET
DTSTART:19701025T030000
RRULE:FREQ=YEARLY;INTERVAL=1;BYDAY=-1SU;BYMONTH=10
END:STANDARD
END:VTIMEZONE
BEGIN:VEVENT
UID:22f7cff35c80bbe4bfa85106a37dd0b2@gruene-schifferstadt.de
URL;VALUE=URI:https://gruene-schifferstadt.de/termine/rettichfestumzug/
LOCATION:
SUMMARY:Rettichfestumzug
DESCRIPTION;ALTREP="data:text/html,%0A%3Cp%3EEndlich%20ist%20es%20wieder%
 20soweit%21%20Nach%20zehn%20Jahren%20hei%C3%9Ft%20es%20am%20Sonntag%2C%20
 14.%20Juni%202026%2C%20wieder%3A%20%E2%80%9EDer%20Rettich%20rollt%21%E2%8
 0%9C%20Der%20beliebte%20Rettichfestumzug%20kehrt%20zur%C3%BCck%20und%20wi
 rd%20die%20Stra%C3%9Fen%20in%20ein%20Meer%20aus%20Farbe%2C%20Musik%20und%
 20Freude%20verwandeln.%3C%2Fp%3E%0A%0A%0A%0A%3Cp%3EAuch%20wir%20sind%20mi
 t%20dabei.%20Wenn%20du%20mitlaufen%20m%C3%B6chtest%20oder%20Ideen%20hast%
 20melde%20dich%20gerne%20bei%20uns.%20%3C%2Fp%3E%0A":Endlich ist es wiede
 r soweit! Nach zehn Jahren heißt es am Sonntag\, 14. Juni 2026\, wieder:
  „Der Rettich rollt!“ Der beliebte Rettichfestumzug kehrt zurück und
  wird die Straßen in ein Meer aus Farbe\, Musik und Freude verwandeln.\n
 \nAuch wir sind mit dabei. Wenn du mitlaufen möchtest oder Ideen hast me
 lde dich gerne bei uns.
CLASS:PUBLIC
DTSTART;TZID=Europe/Berlin:20260614T140000
DTEND;TZID=Europe/Berlin:20260614T180000
DTSTAMP:20260423T115052
END:VEVENT
END:VCALENDAR